BEGIN:VCALENDAR
VERSION:2.0
PRODID:-//Chamber Soloists of Detroit - ECPv6.15.17.1//NONSGML v1.0//EN
CALSCALE:GREGORIAN
METHOD:PUBLISH
X-WR-CALNAME:Chamber Soloists of Detroit
X-ORIGINAL-URL:https://www.chambersoloistsdetroit.org
X-WR-CALDESC:Events for Chamber Soloists of Detroit
REFRESH-INTERVAL;VALUE=DURATION:PT1H
X-Robots-Tag:noindex
X-PUBLISHED-TTL:PT1H
BEGIN:VTIMEZONE
TZID:America/Detroit
BEGIN:DAYLIGHT
TZOFFSETFROM:-0500
TZOFFSETTO:-0400
TZNAME:EDT
DTSTART:20230312T070000
END:DAYLIGHT
BEGIN:STANDARD
TZOFFSETFROM:-0400
TZOFFSETTO:-0500
TZNAME:EST
DTSTART:20231105T060000
END:STANDARD
BEGIN:DAYLIGHT
TZOFFSETFROM:-0500
TZOFFSETTO:-0400
TZNAME:EDT
DTSTART:20240310T070000
END:DAYLIGHT
BEGIN:STANDARD
TZOFFSETFROM:-0400
TZOFFSETTO:-0500
TZNAME:EST
DTSTART:20241103T060000
END:STANDARD
BEGIN:DAYLIGHT
TZOFFSETFROM:-0500
TZOFFSETTO:-0400
TZNAME:EDT
DTSTART:20250309T070000
END:DAYLIGHT
BEGIN:STANDARD
TZOFFSETFROM:-0400
TZOFFSETTO:-0500
TZNAME:EST
DTSTART:20251102T060000
END:STANDARD
BEGIN:DAYLIGHT
TZOFFSETFROM:-0500
TZOFFSETTO:-0400
TZNAME:EDT
DTSTART:20260308T070000
END:DAYLIGHT
BEGIN:STANDARD
TZOFFSETFROM:-0400
TZOFFSETTO:-0500
TZNAME:EST
DTSTART:20261101T060000
END:STANDARD
END:VTIMEZONE
BEGIN:VEVENT
DTSTART;TZID=America/Detroit:20250505T193000
DTEND;TZID=America/Detroit:20250505T213000
DTSTAMP:20260425T062621
CREATED:20240516T165327Z
LAST-MODIFIED:20240516T165327Z
UID:13735-1746473400-1746480600@www.chambersoloistsdetroit.org
SUMMARY:Season Finale: The Ehnes Quartet
DESCRIPTION:Details coming soon!
URL:https://www.chambersoloistsdetroit.org/event/season-finale-the-ehnes-quartet/
LOCATION:The Hawk\, 29995 W. 12 Mile Rd\, Farmington Hills\, MI\, 48334\, United States
CATEGORIES:CSD Subscription Concerts
ATTACH;FMTTYPE=image/jpeg:https://www.chambersoloistsdetroit.org/wp-content/uploads/2023/07/ehnes_quartet_2024_sml.jpg
END:VEVENT
BEGIN:VEVENT
DTSTART;TZID=America/Detroit:20250406T140000
DTEND;TZID=America/Detroit:20250406T160000
DTSTAMP:20260425T062621
CREATED:20240516T165221Z
LAST-MODIFIED:20240516T165221Z
UID:13733-1743948000-1743955200@www.chambersoloistsdetroit.org
SUMMARY:Music for Strings and Piano
DESCRIPTION:Details coming soon!
URL:https://www.chambersoloistsdetroit.org/event/music-for-strings-and-piano/
LOCATION:The Hawk\, 29995 W. 12 Mile Rd\, Farmington Hills\, MI\, 48334\, United States
CATEGORIES:CSD Subscription Concerts
ATTACH;FMTTYPE=image/jpeg:https://www.chambersoloistsdetroit.org/wp-content/uploads/2024/05/strings_and_piano_sml.jpg
END:VEVENT
BEGIN:VEVENT
DTSTART;TZID=America/Detroit:20250105T140000
DTEND;TZID=America/Detroit:20250105T160000
DTSTAMP:20260425T062621
CREATED:20240516T165110Z
LAST-MODIFIED:20240516T165110Z
UID:13731-1736085600-1736092800@www.chambersoloistsdetroit.org
SUMMARY:By Popular Demand…
DESCRIPTION:Detroit Symphony wind principals rejoin Pauline Martin to once again ring in the New Year with an exquisite program featuring Beethoven’s Quintet for Piano and Winds.
URL:https://www.chambersoloistsdetroit.org/event/by-popular-demand/
LOCATION:The Hawk\, 29995 W. 12 Mile Rd\, Farmington Hills\, MI\, 48334\, United States
CATEGORIES:CSD Subscription Concerts
ATTACH;FMTTYPE=image/jpeg:https://www.chambersoloistsdetroit.org/wp-content/uploads/2023/07/pauline_martin_dso_jan_2024_sml.jpg
END:VEVENT
BEGIN:VEVENT
DTSTART;TZID=America/Detroit:20241013T193000
DTEND;TZID=America/Detroit:20241013T213000
DTSTAMP:20260425T062621
CREATED:20240516T164949Z
LAST-MODIFIED:20240516T164949Z
UID:13729-1728847800-1728855000@www.chambersoloistsdetroit.org
SUMMARY:Music for Cello and Piano
DESCRIPTION:DSO cellist and composer Jeremy Crosmer and pianist Pauline Martin
URL:https://www.chambersoloistsdetroit.org/event/music-for-cello-and-piano/
LOCATION:The Hawk\, 29995 W. 12 Mile Rd\, Farmington Hills\, MI\, 48334\, United States
CATEGORIES:CSD Subscription Concerts
END:VEVENT
BEGIN:VEVENT
DTSTART;TZID=America/Detroit:20240506T193000
DTEND;TZID=America/Detroit:20240506T213000
DTSTAMP:20260425T062621
CREATED:20210221T171436Z
LAST-MODIFIED:20240228T213013Z
UID:13399-1715023800-1715031000@www.chambersoloistsdetroit.org
SUMMARY:It’s a Wrap – Celebrate with the Ehnes Quartet!
DESCRIPTION:For Chamber Soloists of Detroit’s series finale\, the Ehnes Quartet caps off their touring season with a performance of the complete “Rasoumovsky” quartets\, Opus 59 nos. 1\, 2 & 3 by Beethoven in a single event.  Don’t miss this last opportunity of the season to experience world-class chamber music at The Hawk. \n  \n 
URL:https://www.chambersoloistsdetroit.org/event/its-a-wrap-celebrate-with-the-ehnes-quartet/
CATEGORIES:CSD Subscription Concerts
ATTACH;FMTTYPE=image/jpeg:https://www.chambersoloistsdetroit.org/wp-content/uploads/2023/07/ehnes_quartet_2024_sml.jpg
END:VEVENT
BEGIN:VEVENT
DTSTART;TZID=America/Detroit:20240407T140000
DTEND;TZID=America/Detroit:20240407T170000
DTSTAMP:20260425T062621
CREATED:20240220T171133Z
LAST-MODIFIED:20240228T223053Z
UID:13393-1712498400-1712509200@www.chambersoloistsdetroit.org
SUMMARY:Partners in Time – Simply Sublime!
DESCRIPTION:Guest violist Ara Gregorian returns to his native Michigan to join friends and colleagues\, violinist Amy Schwartz Moretti\, cellist Edward Arron  and pianist Pauline Martin\, in an engaging program for strings and piano. Featuring the monumental Piano Quartet No. 2 in E flat by Dvorak\, Beethoven’s “Eyeglasses” Duo for Violin and Cello\, the ever-popular “Gypsy” Trio in G by Haydn\, and William Grant Still’s “Mother and Child” (from his Suite for Violin and Piano). \nPurchase Tickets
URL:https://www.chambersoloistsdetroit.org/event/partners-in-time-simply-sublime/
LOCATION:The Hawk\, 29995 W. 12 Mile Rd\, Farmington Hills\, MI\, 48334\, United States
CATEGORIES:CSD Subscription Concerts
ATTACH;FMTTYPE=image/jpeg:https://www.chambersoloistsdetroit.org/wp-content/uploads/2023/07/Amy_Schwartz_Moretti_Edward_Arron_Ara_Gregorian_Pauline_Martin_sml-1.jpg
END:VEVENT
BEGIN:VEVENT
DTSTART;TZID=America/Detroit:20240310T110000
DTEND;TZID=America/Detroit:20240310T130000
DTSTAMP:20260425T062621
CREATED:20240228T201708Z
LAST-MODIFIED:20240302T022837Z
UID:13575-1710068400-1710075600@www.chambersoloistsdetroit.org
SUMMARY:Three’s a Charm - Grosse Pointe War Memorial
DESCRIPTION:Detroit’s own cellist Erik Ásgeirsson returns from Germany to join CSD pianist Pauline Martin and Michigan Opera Theatre Orchestra concertmaster Eliot Heaton in an inspiring program of piano trio gems: Beethoven Trio\, Op.1\, No. 1 in E-flat Major\, Fauré Piano Trio\, Op. 120 and Smetana Piano Trio in G minor. \nAs always\, expect a dynamic evening of chamber music\, with time for CSD’s customary Just Between Us “talk-back”\, following the concert. \nGrosse Pointe War Memorial: Winter Brunch and Concert\n32 Lake Shore Dr\, Grosse Pointe Farms\, MI 48236 \nJust announced:\nExclusive discount for CSD patrons at the War Memorial!\nClick here for a 2-concert discount – Sunday March 10 & Saturday\, April 6. \nFor Single Tickets Option (Brunch with concert or concert only) or Table of 8 Package Click here.\nFor more information\, call (313) 881-7511 \n 
URL:https://www.chambersoloistsdetroit.org/event/threes-a-charm-grosse-pointe-war-memorial/
LOCATION:Grosse Pointe War Memorial
CATEGORIES:Out & About
ATTACH;FMTTYPE=image/jpeg:https://www.chambersoloistsdetroit.org/wp-content/uploads/2023/12/Erik_Asgeirsson_Eliot_Heaton_Pauline_Martin_4_sml.jpg
END:VEVENT
BEGIN:VEVENT
DTSTART;TZID=America/Detroit:20240308T193000
DTEND;TZID=America/Detroit:20240308T213000
DTSTAMP:20260425T062621
CREATED:20240228T200519Z
LAST-MODIFIED:20240302T022712Z
UID:13568-1709926200-1709933400@www.chambersoloistsdetroit.org
SUMMARY:Three’s a Charm – Grove Festival of Music
DESCRIPTION:Detroit’s own cellist Erik Ásgeirsson returns from Germany to join CSD pianist Pauline Martin and Michigan Opera Theatre Orchestra concertmaster Eliot Heaton in an inspiring program of piano trio gems: Beethoven Trio\, Op.1\, No. 1 in E-flat Major\, Fauré Piano Trio\, Op. 120 and Smetana Piano Trio in G minor. \nAs always\, expect a dynamic evening of chamber music\, with time for CSD’s customary Just Between Us “talk-back”\, following the concert. \nGrove Festival of Music at St. John’s Episcopal Church\n405 N Saginaw Rd\, Midland\, MI 48640\nTickets: Available at the door\, or call (989) 835-8183 \n 
URL:https://www.chambersoloistsdetroit.org/event/threes-a-charm-grove-festival-of-music/
LOCATION:Grove Festival of Music\, 405 N Saginaw Rd.\, Midland\, MI\, 48640\, United States
CATEGORIES:Out & About
ATTACH;FMTTYPE=image/jpeg:https://www.chambersoloistsdetroit.org/wp-content/uploads/2023/12/Erik_Asgeirsson_Eliot_Heaton_Pauline_Martin_3_sml.jpg
END:VEVENT
BEGIN:VEVENT
DTSTART;TZID=America/Detroit:20240307T193000
DTEND;TZID=America/Detroit:20240307T213000
DTSTAMP:20260425T062621
CREATED:20231215T033517Z
LAST-MODIFIED:20240302T022621Z
UID:13409-1709839800-1709847000@www.chambersoloistsdetroit.org
SUMMARY:Three’s a Charm - Kerrytown
DESCRIPTION:Detroit’s own cellist Erik Ásgeirsson returns from Germany to join CSD pianist Pauline Martin and Michigan Opera Theatre Orchestra concertmaster Eliot Heaton in an inspiring program of piano trio gems: Beethoven Trio\, Op.1\, No. 1 in E-flat Major\, Fauré Piano Trio\, Op. 120 and Smetana Piano Trio in G minor. \nAs always\, expect a dynamic evening of chamber music\, with time for CSD’s customary Just Between Us “talk-back”\, following the concert. \nKerrytown Concert House\n415 N. 4th Ave.\, Ann Arbor\, MI 48104\nClick here for Tickets & Information or call (734) 769-2999 \n 
URL:https://www.chambersoloistsdetroit.org/event/threes-a-charm/
LOCATION:Kerrytown Concert House\, 415 N. 4th Ave.\, Ann Arbor\, MI\, 48104\, United States
CATEGORIES:Out & About
ATTACH;FMTTYPE=image/jpeg:https://www.chambersoloistsdetroit.org/wp-content/uploads/2023/12/Erik_Asgeirsson_Eliot_Heaton_Pauline_Martin_2_sml.jpg
END:VEVENT
BEGIN:VEVENT
DTSTART;TZID=America/Detroit:20240306T190000
DTEND;TZID=America/Detroit:20240306T210000
DTSTAMP:20260425T062621
CREATED:20231215T032903Z
LAST-MODIFIED:20240302T021036Z
UID:13411-1709751600-1709758800@www.chambersoloistsdetroit.org
SUMMARY:Three’s a Charm - Fair Lane Music Guild
DESCRIPTION:Detroit’s own cellist Erik Ásgeirsson returns from Germany to join CSD pianist Pauline Martin and Michigan Opera Theatre Orchestra concertmaster Eliot Heaton in an inspiring program of piano trio gems: Beethoven Trio\, Op.1\, No. 1 in E-flat Major\, Fauré Piano Trio\, Op. 120 and Smetana Piano Trio in G minor. \nAs always\, expect a dynamic evening of chamber music\, with time for CSD’s customary Just Between Us “talk-back”\, following the concert. \nFair Lane Music Guild\, Henry Ford Mansion\n1 Fair Lane Drive\, Dearborn\, MI\nClick here for Tickets & Information or call (313) 668-3200 \n 
URL:https://www.chambersoloistsdetroit.org/event/threes-a-charm-with-chamber-soloists-of-detroit/
LOCATION:Fair Lane Music Guild\, Henry Ford Mansion
CATEGORIES:Out & About
ATTACH;FMTTYPE=image/jpeg:https://www.chambersoloistsdetroit.org/wp-content/uploads/2023/07/Erik_Asgeirsson_Eliot_Heaton_Pauline_Martin_sml-1.jpg
END:VEVENT
BEGIN:VEVENT
DTSTART;TZID=America/Detroit:20240107T140000
DTEND;TZID=America/Detroit:20240107T170000
DTSTAMP:20260425T062621
CREATED:20231214T170506Z
LAST-MODIFIED:20231214T171210Z
UID:13388-1704636000-1704646800@www.chambersoloistsdetroit.org
SUMMARY:Mozart & More – Up Close and Personal with DSO principals
DESCRIPTION:CHAMBER SOLOISTS OF DETROIT presents Mozart and More – Up Close and Personal with DSO’s finest! Alex Kinmonth\, oboe; Ralph Skiano\, clarinet; Scott Strong\, horn; Conrad Cornelison\, bassoon and Pauline Martin\, piano Sunday\, January 7\, 2024 at 2:00 p.m. CSD Subscription Concert at The Hawk 29995 W. 12 Mile Rd\, Farmington Hills\, MI 48334Give yourself the gift of music this holiday season! Celebrate the New Year with a delightful program for winds and piano\, with pianist Pauline Martin and her superb DSO colleagues. Featuring Mozart’s sublime Piano Quintet\, the witty Trio for Oboe\, Bassoon and Piano by Francis Poulenc\, and Carl Reinecke’s richly romantic Trio for Clarinet\, Horn and Piano.
URL:https://www.chambersoloistsdetroit.org/event/mozart-more-up-close-and-personal-with-dso-principals/
LOCATION:The Hawk\, 29995 W. 12 Mile Rd\, Farmington Hills\, MI\, 48334\, United States
CATEGORIES:CSD Subscription Concerts
ATTACH;FMTTYPE=image/jpeg:https://www.chambersoloistsdetroit.org/wp-content/uploads/2023/07/pauline_martin_dso_jan_2024_sml.jpg
END:VEVENT
BEGIN:VEVENT
DTSTART;TZID=America/Detroit:20240106T193000
DTEND;TZID=America/Detroit:20240106T213000
DTSTAMP:20260425T062621
CREATED:20231215T032347Z
LAST-MODIFIED:20231215T032347Z
UID:13403-1704569400-1704576600@www.chambersoloistsdetroit.org
SUMMARY:Mozart and More! Up Close and Personal with the DSO’s Finest
DESCRIPTION:
URL:https://www.chambersoloistsdetroit.org/event/mozart-and-more-up-close-and-personal-with-the-dsos-finest/
LOCATION:Kerrytown Concert House\, 415 N. 4th Ave.\, Ann Arbor\, MI\, 48104\, United States
CATEGORIES:Out & About
END:VEVENT
END:VCALENDAR