BEGIN:VCALENDAR
VERSION:2.0
PRODID:-//Chamber Soloists of Detroit - ECPv6.15.17.1//NONSGML v1.0//EN
CALSCALE:GREGORIAN
METHOD:PUBLISH
X-WR-CALNAME:Chamber Soloists of Detroit
X-ORIGINAL-URL:https://www.chambersoloistsdetroit.org
X-WR-CALDESC:Events for Chamber Soloists of Detroit
REFRESH-INTERVAL;VALUE=DURATION:PT1H
X-Robots-Tag:noindex
X-PUBLISHED-TTL:PT1H
BEGIN:VTIMEZONE
TZID:America/Detroit
BEGIN:DAYLIGHT
TZOFFSETFROM:-0500
TZOFFSETTO:-0400
TZNAME:EDT
DTSTART:20240310T070000
END:DAYLIGHT
BEGIN:STANDARD
TZOFFSETFROM:-0400
TZOFFSETTO:-0500
TZNAME:EST
DTSTART:20241103T060000
END:STANDARD
BEGIN:DAYLIGHT
TZOFFSETFROM:-0500
TZOFFSETTO:-0400
TZNAME:EDT
DTSTART:20250309T070000
END:DAYLIGHT
BEGIN:STANDARD
TZOFFSETFROM:-0400
TZOFFSETTO:-0500
TZNAME:EST
DTSTART:20251102T060000
END:STANDARD
BEGIN:DAYLIGHT
TZOFFSETFROM:-0500
TZOFFSETTO:-0400
TZNAME:EDT
DTSTART:20260308T070000
END:DAYLIGHT
BEGIN:STANDARD
TZOFFSETFROM:-0400
TZOFFSETTO:-0500
TZNAME:EST
DTSTART:20261101T060000
END:STANDARD
BEGIN:DAYLIGHT
TZOFFSETFROM:-0500
TZOFFSETTO:-0400
TZNAME:EDT
DTSTART:20270314T070000
END:DAYLIGHT
BEGIN:STANDARD
TZOFFSETFROM:-0400
TZOFFSETTO:-0500
TZNAME:EST
DTSTART:20271107T060000
END:STANDARD
END:VTIMEZONE
BEGIN:VEVENT
DTSTART;TZID=America/Detroit:20251019T140000
DTEND;TZID=America/Detroit:20251019T160000
DTSTAMP:20260425T080147
CREATED:20250610T192926Z
LAST-MODIFIED:20251017T014057Z
UID:14247-1760882400-1760889600@www.chambersoloistsdetroit.org
SUMMARY:Kerson Leong – CSD Debut
DESCRIPTION:We are thrilled to introduce internationally acclaimed Canadian violinist Kerson Leong in his solo Detroit debut on Sunday October 19 at 2 p.m. at The Hawk Mainstage Theater in Farmington Hills\, with the support of the Consulate General of Canada in Detroit  \n\n\n\n“With a rich\, magical sound\, devilish precision of intonation\, and a range of colors and nuances that followed the twists and shifting atmospheres of the composition\, the violinist from Ottawa all but hypnotized the audience.”  (Le Devoir\, July 2021) \n\n\n\nAt age 28\, Leong’s astonishing array of awards and accomplishments portend a career of epic achievement.  Chamber Soloists of Detroit attendees will surely be proud to say\, “We were there when…!” \n\n\n\nProgram:TÁRREGA/RICCI Recuerdos de la AlhambraBACH Violin Sonata No. 2 in a minor BWV 1003YSAŸE Violin Sonata No. 3 ‘Ballade’KREISLER Recitativo and ScherzoYSAŸE Violin Sonata No. 4BACH Chaconne from Partita No. 2
URL:https://www.chambersoloistsdetroit.org/event/black-oak-ensemble-csd-debut/
LOCATION:The Hawk\, 29995 W. 12 Mile Rd\, Farmington Hills\, MI\, 48334\, United States
CATEGORIES:2025-2026,CSD Subscription Concerts
ATTACH;FMTTYPE=image/jpeg:https://www.chambersoloistsdetroit.org/wp-content/uploads/2025/09/Kerson_Leong-1.jpg
END:VEVENT
BEGIN:VEVENT
DTSTART;TZID=America/Detroit:20260119T193000
DTEND;TZID=America/Detroit:20260119T213000
DTSTAMP:20260425T080147
CREATED:20250610T192459Z
LAST-MODIFIED:20260106T200116Z
UID:14243-1768851000-1768858200@www.chambersoloistsdetroit.org
SUMMARY:Ehnes Quartet - Celebrating Its 10th CSD Appearance! 
DESCRIPTION:Experience firsthand the “rich sound and seamless ensemble playing from…all-star [Ehnes] Quartet” (Strad Magazine) \n\n\n\nYou are also invited to an artist masterclass\, open to the public at no additional cost\, on Tuesday Jan. 20 at 9:30 a.m. at The Hawk\, where 3 outstanding University of Michigan quartets will have a rare opportunity to be coached by members of the Ehnes Quartet. CSD extends sincere thanks to masterclass sponsor Judy Unick
URL:https://www.chambersoloistsdetroit.org/event/ehnes-quartet-celebrating-its-10th-csd-appearance/
LOCATION:The Hawk\, 29995 W. 12 Mile Rd\, Farmington Hills\, MI\, 48334\, United States
CATEGORIES:2025-2026,CSD Subscription Concerts
ATTACH;FMTTYPE=image/jpeg:https://www.chambersoloistsdetroit.org/wp-content/uploads/2025/06/Ehnes_Quartet_2025.jpg
END:VEVENT
BEGIN:VEVENT
DTSTART;TZID=America/Detroit:20260412T140000
DTEND;TZID=America/Detroit:20260412T160000
DTSTAMP:20260425T080147
CREATED:20250610T192012Z
LAST-MODIFIED:20260311T005629Z
UID:14240-1776002400-1776009600@www.chambersoloistsdetroit.org
SUMMARY:Strings & Piano & Winds… Oh\, My!
DESCRIPTION:April 12\, 2026 at 2pm\n\n\n\n\n\n\n\nThere’s no place like home for Detroit’s finest. \n\n\n\nPauline Martin\, takes the stage with DSO fan favorites – flutist Sharon Sparrow\, cellist Jeremy Crosmer\, oboist Alexander Kinmonth and violist Will Haapaniemi – for a delightful program showcasing the lyricism and beauty of each of their instruments. \n\n\n\n\n\n\nProgramCarl Reinecke – Sonata “Undine” for Flute and PianoBohuslav Martinů – Trio for Flute\, Cello & PianoCharles Martin Loeffler – Two Rhapsodies for Oboe\, Viola & PianoJohn Corigliano – The Food of Love for Oboe & CelloRebecca Clarke – Two Pieces for Viola and Cello  \n\n\n\nAstor Piazzolla – La Calle 92 (arr. Desyatnikov) for Viola & Cello \n\n\n\n\n\n\n\n\n\n\nSponsored by Robert Go and Randy and Lynn Miller \n\n\n\n\nPURCHASE SINGLE TICKETS\n\n\n\n\nSingle tickets at the door $30\, advance purchase $25 (Please note: service fees apply)The Hawk Ticket Hotline: (248) 473-1850 CSD Office: (586) 944-5353
URL:https://www.chambersoloistsdetroit.org/event/strings-piano-winds-oh-my/
LOCATION:The Hawk\, 29995 W. 12 Mile Rd\, Farmington Hills\, MI\, 48334\, United States
CATEGORIES:2025-2026,CSD Subscription Concerts
ATTACH;FMTTYPE=image/jpeg:https://www.chambersoloistsdetroit.org/wp-content/uploads/2025/06/april-2026.jpg
END:VEVENT
BEGIN:VEVENT
DTSTART;TZID=America/Detroit:20260510T140000
DTEND;TZID=America/Detroit:20260510T160000
DTSTAMP:20260425T080147
CREATED:20250610T193156Z
LAST-MODIFIED:20260420T014731Z
UID:14250-1778421600-1778428800@www.chambersoloistsdetroit.org
SUMMARY:Songs My Mother Taught Me
DESCRIPTION:Cellist Erik Asgeirsson returns to join violinist Amy Schwartz Moretti and Pauline Martin for a special Mother’s Day season finale
URL:https://www.chambersoloistsdetroit.org/event/songs-my-mother-taught-me/
LOCATION:The Hawk\, 29995 W. 12 Mile Rd\, Farmington Hills\, MI\, 48334\, United States
CATEGORIES:2025-2026,CSD Subscription Concerts
ATTACH;FMTTYPE=image/jpeg:https://www.chambersoloistsdetroit.org/wp-content/uploads/2025/06/Amy-Erik-Pauline-Collage-scaled.jpg
END:VEVENT
END:VCALENDAR